Workbook

Sheet テスト方法
A1: 入力テストの方法について
A3: ◆シート「パターン①」「パターン②」をプリントアウトしてください
A5: ◆シート「ヘッダー情報」を入力してください
A7: ◆ケータイのストップウォッチ準備
A9: パターン①の入力
A10: ◆パターン①は透明の30センチ定規を使ってください。
A11: 「パターン①」のデータを「記入シート①」に入力してもらいます。
A13: ◆ウオーミングアップ
A14: ウオーミングアップデータを「記入シート①」に入力
A15: ウオーミングアップ終了後、1分休憩
A17: ◆本番
A18: ストップウォッチ スタート 本番開始
... A34: おわり お疲れ様でした！

Sheet ヘッダー情報
A1: リストから選んでください
A2: （セルを選ぶとリストが出てきます）
A3: 年齢
A7: 性別
A11: 職業
A15: 普段のお仕事
A19: 普段から定規をつかいますか？
A23: （定規を使う、たまに使うとお答えになった方）
A24: 主な使い方を教えてください
A29: 書類リーディングの使い方について

Sheet パターン①
A1: 入力実験 問題 | D1: パターン | E1: ①
A3: ウオーミングアップ
A4: A | B4: B | C4: C | D4: D | E4: E
A5: DB6UGP | B5: A54JGA | C5: WE824E | D5: PPC7ZP | E5: E4U3GV
A6: P5L3PX | B6: 4565CA | C6: 9PUC2U | D6: JN4NGD | E6: PEEPKK2
A9: 本番
A10: A | B10: B | C10: C | D10: D | E10: E
A11: NE97GK | B11: 2WC44R | C11: 5DW3YJ | D11: 7E9RER | E11: 9WXFS6
A12: Q96H33 | B12: BUEDPU5 | C12: 8QMM6Z | D12: BQV46B | E12: PMQK6Y
A13: P34NZR | B13: 2CTWCN | C13: P8R52F | D13: Z3T963 | E13: BYWZQ6
A14: CPF4V6 | B14: HJTD5Z | C14: 4T2END | D14: J0RGFK | E14: PM23UY
A15: D6H84Y | B15: LFEQG5 | C15: 8JRCFL | D15: WG75U7 | E15: FSMY1K
A16: JWQXVK6 | B16: 7G9THJ | C16: 6ZNH8M | D16: 3NFVTN | E16: QW23WJ
A17: FFUJD4 | B17: PEZ0AV | C17: TRVYY3 | D17: MFUFGJ2 | E17: MAWSV8
A18: Z7Y9ZJ | B18: 6U448W | C18: TVKY1P | D18: L3WMTD | E18: 8M5C9Y
A19: 3CM5CU | B19: 2XNKPY | C19: Z5ZFUH | D19: GMZR9Z | E19: YMS2M3
A20: YHEHJ3 | B20: JETN6S | C20: N5USND | D20: JFJSD9 | E20: SJPC8M

Sheet パターン②
A1: 入力実験 問題 | D1: パターン | E1: ②
A3: ウオーミングアップ
A4: A | B4: B | C4: C | D4: D | E4: E
A5: 3Y2JN4 | B5: 289JE9 | C5: ULG989 | D5: 57SHXL | E5: J6NDW5
A6: F3GWPF | B6: KN278V | C6: MJ6CXE | D6: LGTLN9 | E6: LXC6Z3
A9: 本番
A10: A | B10: B | C10: C | D10: D | E10: E
A11: K6S5CR | B11: LAUH9S | C11: H4RDME | D11: APB7GP | E11: 28Z63M
A12: N3ZWPX | B12: YE9C3E | C12: M9FZJA | D12: VYJKN5 | E12: BE7E4Y
A13: CLQ6WL | B13: SJP3V7 | C13: L42FSQ | D13: YS2P44 | E13: MZV2BV
A14: J2QQMA | B14: 5HXNVA | C14: 3NXBY7 | D14: M8TT3D | E14: 43XDMK
A15: NRJU6Q | B15: ZB3KLP | C15: HJNR2K | D15: DKBV8Q | E15: 65UM6C
A16: LG7AWF | B16: DMSG8T | C16: C2HHVH | D16: QQJP4Y | E16: CA8SUB
A17: XP4MQ3 | B17: H8YJ9S | C17: 2MWC2J | D17: N3V73M | E17: MAD6AV
A18: K4TFZD | B18: R7EZMB | C18: ZPY92Y | D18: KE5XBY | E18: 48NRNC
A19: 5GQWJC | B19: FGM2M9 | C19: GZC4FG | D19: TPH8DT | E19: RVN2AT
A20: NTSUG9 | B20: 6W2BHV | C20: RWPT1R | D20: FXCS4V | E20: N4JZAL

Sheet 記入シート①
A1: 入力実験 記入シート | D1: パターン | E1: ① | G1: 答え合わせ | M1: ←答え合わせはここに
A3: ウオーミングアップ
A4: A | B4: B | C4: C | D4: D | E4: E
A9: 本番
A10: A | B10: B | C10: C | D10: D | E10: E
G11: =IF(A11=パターン①!A11,"",1) -> 1 | H11: =IF(B11=パターン①!B11,"",1) -> 1 | I11: =IF(C11=パターン①!C11,"",1) -> 1 | J11: =IF(D11=パターン①!D11,"",1) -> 1 | K11: =IF(E11=パターン①!E11,"",1) -> 1 | L11: =IF(F11=#REF!,"",1) -> #REF!
G12: =IF(A12=パターン①!A12,"",1) -> 1 | H12: =IF(B12=パターン①!B12,"",1) -> 1 | I12: =IF(C12=パターン①!C12,"",1) -> 1 | J12: =IF(D12=パターン①!D12,"",1) -> 1 | K12: =IF(E12=パターン①!E12,"",1) -> 1 | L12: =IF(F12=#REF!,"",1) -> #REF!
G13: =IF(A13=パターン①!A13,"",1) -> 1 | H13: =IF(B13=パターン①!B13,"",1) -> 1 | I13: =IF(C13=パターン①!C13,"",1) -> 1 | J13: =IF(D13=パターン①!D13,"",1) -> 1 | K13: =IF(E13=パターン①!E13,"",1) -> 1 | L13: =IF(F13=#REF!,"",1) -> #REF!
G14: =IF(A14=パターン①!A14,"",1) -> 1 | H14: =IF(B14=パターン①!B14,"",1) -> 1 | I14: =IF(C14=パターン①!C14,"",1) -> 1 | J14: =IF(D14=パターン①!D14,"",1) -> 1 | K14: =IF(E14=パターン①!E14,"",1) -> 1 | L14: =IF(F14=#REF!,"",1) -> #REF!
G15: =IF(A15=パターン①!A15,"",1) -> 1 | H15: =IF(B15=パターン①!B15,"",1) -> 1 | I15: =IF(C15=パターン①!C15,"",1) -> 1 | J15: =IF(D15=パターン①!D15,"",1) -> 1 | K15: =IF(E15=パターン①!E15,"",1) -> 1 | L15: =IF(F15=#REF!,"",1) -> #REF!
G16: =IF(A16=パターン①!A16,"",1) -> 1 | H16: =IF(B16=パターン①!B16,"",1) -> 1 | I16: =IF(C16=パターン①!C16,"",1) -> 1 | J16: =IF(D16=パターン①!D16,"",1) -> 1 | K16: =IF(E16=パターン①!E16,"",1) -> 1 | L16: =IF(F16=#REF!,"",1) -> #REF!
G17: =IF(A17=パターン①!A17,"",1) -> 1 | H17: =IF(B17=パターン①!B17,"",1) -> 1 | I17: =IF(C17=パターン①!C17,"",1) -> 1 | J17: =IF(D17=パターン①!D17,"",1) -> 1 | K17: =IF(E17=パターン①!E17,"",1) -> 1 | L17: =IF(F17=#REF!,"",1) -> #REF!
G18: =IF(A18=パターン①!A18,"",1) -> 1 | H18: =IF(B18=パターン①!B18,"",1) -> 1 | I18: =IF(C18=パターン①!C18,"",1) -> 1 | J18: =IF(D18=パターン①!D18,"",1) -> 1 | K18: =IF(E18=パターン①!E18,"",1) -> 1 | L18: =IF(F18=#REF!,"",1) -> #REF!
G19: =IF(A19=パターン①!A19,"",1) -> 1 | H19: =IF(B19=パターン①!B19,"",1) -> 1 | I19: =IF(C19=パターン①!C19,"",1) -> 1 | J19: =IF(D19=パターン①!D19,"",1) -> 1 | K19: =IF(E19=パターン①!E19,"",1) -> 1 | L19: =IF(F19=#REF!,"",1) -> #REF!
G20: =IF(A20=パターン①!A20,"",1) -> 1 | H20: =IF(B20=パターン①!B20,"",1) -> 1 | I20: =IF(C20=パターン①!C20,"",1) -> 1 | J20: =IF(D20=パターン①!D20,"",1) -> 1 | K20: =IF(E20=パターン①!E20,"",1) -> 1 | L20: =IF(F20=#REF!,"",1) -> #REF!
G26: =SUM(G11:G25) -> 10 | H26: =SUM(H11:H25) -> 10 | I26: =SUM(I11:I25) -> 10 | J26: =SUM(J11:J25) -> 10 | K26: =SUM(K11:K25) -> 10
B27: かかった時間
C28: 分 | E28: 秒 | G28: 点数 | H28: =50-SUM(G26:K26) -> 0

Sheet 記入シート②
A1: 入力実験 記入シート | D1: パターン | E1: ② | G1: 答え合わせ | M1: ←答え合わせはここに
A3: ウオーミングアップ
A4: A | B4: B | C4: C | D4: D | E4: E
G5: =IF(A5=#REF!,"",1) -> #REF! | H5: =IF(B5=#REF!,"",1) -> #REF! | I5: =IF(C5=#REF!,"",1) -> #REF! | J5: =IF(D5=#REF!,"",1) -> #REF! | K5: =IF(E5=#REF!,"",1) -> #REF! | L5: =IF(F5=#REF!,"",1) -> #REF!
G6: =IF(A6=#REF!,"",1) -> #REF! | H6: =IF(B6=#REF!,"",1) -> #REF! | I6: =IF(C6=#REF!,"",1) -> #REF! | J6: =IF(D6=#REF!,"",1) -> #REF! | K6: =IF(E6=#REF!,"",1) -> #REF! | L6: =IF(F6=#REF!,"",1) -> #REF!
A9: 本番
A10: A | B10: B | C10: C | D10: D | E10: E
G11: =IF(A11=パターン②!A11,"",1) -> 1 | H11: =IF(B11=パターン②!B11,"",1) -> 1 | I11: =IF(C11=パターン②!C11,"",1) -> 1 | J11: =IF(D11=パターン②!D11,"",1) -> 1 | K11: =IF(E11=パターン②!E11,"",1) -> 1
G12: =IF(A12=パターン②!A12,"",1) -> 1 | H12: =IF(B12=パターン②!B12,"",1) -> 1 | I12: =IF(C12=パターン②!C12,"",1) -> 1 | J12: =IF(D12=パターン②!D12,"",1) -> 1 | K12: =IF(E12=パターン②!E12,"",1) -> 1
G13: =IF(A13=パターン②!A13,"",1) -> 1 | H13: =IF(B13=パターン②!B13,"",1) -> 1 | I13: =IF(C13=パターン②!C13,"",1) -> 1 | J13: =IF(D13=パターン②!D13,"",1) -> 1 | K13: =IF(E13=パターン②!E13,"",1) -> 1
G14: =IF(A14=パターン②!A14,"",1) -> 1 | H14: =IF(B14=パターン②!B14,"",1) -> 1 | I14: =IF(C14=パターン②!C14,"",1) -> 1 | J14: =IF(D14=パターン②!D14,"",1) -> 1 | K14: =IF(E14=パターン②!E14,"",1) -> 1
G15: =IF(A15=パターン②!A15,"",1) -> 1 | H15: =IF(B15=パターン②!B15,"",1) -> 1 | I15: =IF(C15=パターン②!C15,"",1) -> 1 | J15: =IF(D15=パターン②!D15,"",1) -> 1 | K15: =IF(E15=パターン②!E15,"",1) -> 1
G16: =IF(A16=パターン②!A16,"",1) -> 1 | H16: =IF(B16=パターン②!B16,"",1) -> 1 | I16: =IF(C16=パターン②!C16,"",1) -> 1 | J16: =IF(D16=パターン②!D16,"",1) -> 1 | K16: =IF(E16=パターン②!E16,"",1) -> 1
G17: =IF(A17=パターン②!A17,"",1) -> 1 | H17: =IF(B17=パターン②!B17,"",1) -> 1 | I17: =IF(C17=パターン②!C17,"",1) -> 1 | J17: =IF(D17=パターン②!D17,"",1) -> 1 | K17: =IF(E17=パターン②!E17,"",1) -> 1
G18: =IF(A18=パターン②!A18,"",1) -> 1 | H18: =IF(B18=パターン②!B18,"",1) -> 1 | I18: =IF(C18=パターン②!C18,"",1) -> 1 | J18: =IF(D18=パターン②!D18,"",1) -> 1 | K18: =IF(E18=パターン②!E18,"",1) -> 1
G19: =IF(A19=パターン②!A19,"",1) -> 1 | H19: =IF(B19=パターン②!B19,"",1) -> 1 | I19: =IF(C19=パターン②!C19,"",1) -> 1 | J19: =IF(D19=パターン②!D19,"",1) -> 1 | K19: =IF(E19=パターン②!E19,"",1) -> 1
G20: =IF(A20=パターン②!A20,"",1) -> 1 | H20: =IF(B20=パターン②!B20,"",1) -> 1 | I20: =IF(C20=パターン②!C20,"",1) -> 1 | J20: =IF(D20=パターン②!D20,"",1) -> 1 | K20: =IF(E20=パターン②!E20,"",1) -> 1
G26: =SUM(G11:G25) -> 10 | H26: =SUM(H11:H25) -> 10 | I26: =SUM(I11:I25) -> 10 | J26: =SUM(J11:J25) -> 10 | K26: =SUM(K11:K25) -> 10
B27: かかった時間
C28: 分 | E28: 秒 | G28: 点数 | H28: =50-SUM(G26:K26) -> 0

Sheet リストマスタ
A1: 10代 | B1: 男性 | C1: 学生 | D1: 事務職 | E1: 使う | F1: メモリで測る | G1: したことがある | H1: ①
A2: 20代 | B2: 女性 | C2: 会社員 | D2: 現場作業職 | E2: たまに使う | F2: 線を引く | G2: たまにする | H2: ②
A3: 30代 | B3: 答えない | C3: 公務員 | D3: マネージャー職 | E3: まったく使わない | F3: 紙を切る | G3: ほとんど毎日する | H3: ③
A4: 40代 | C4: 団体職員 | D4: 専門職 | F4: カッターで切る | G4: まったくやらない
A5: 50代 | C5: 自営業 | D5: 見習い | F5: 書類リーディング
A6: 60代 | C6: アルバイト | D6: その他
A7: その他 | C7: その他
